BEGIN:VCALENDAR
VERSION:2.0
PRODID:-//Bankstown Canterbury Community Transport - ECPv4.7.3//NONSGML v1.0//EN
CALSCALE:GREGORIAN
METHOD:PUBLISH
X-WR-CALNAME:Bankstown Canterbury Community Transport
X-ORIGINAL-URL:https://bcct.org.au
X-WR-CALDESC:Events for Bankstown Canterbury Community Transport
BEGIN:VEVENT
DTSTART;VALUE=DATE:20190305
DTEND;VALUE=DATE:20190306
DTSTAMP:20190227T195834
CREATED:20190212T015948Z
LAST-MODIFIED:20190213T043145Z
UID:2253-1551744000-1551830399@bcct.org.au
SUMMARY:Flower Power - Enfield
DESCRIPTION:Tour the seedlings and be inspired to grow your own before ambling through the shaded plants and out into the nursery area. \n
URL:https://bcct.org.au/outing/flower-power-enfield/
LOCATION:Flower Power Enfield\, 27 Mitchell St\, Enfield\, NSW\, 2163
END:VEVENT
END:VCALENDAR