BEGIN:VCALENDAR
VERSION:2.0
PRODID:-//Bankstown Canterbury Community Transport - ECPv4.7.3//NONSGML v1.0//EN
CALSCALE:GREGORIAN
METHOD:PUBLISH
X-WR-CALNAME:Bankstown Canterbury Community Transport
X-ORIGINAL-URL:https://bcct.org.au
X-WR-CALDESC:Events for Bankstown Canterbury Community Transport
BEGIN:VEVENT
DTSTART;VALUE=DATE:20190306
DTEND;VALUE=DATE:20190307
DTSTAMP:20190228T090040
CREATED:20190212T020159Z
LAST-MODIFIED:20190212T020159Z
UID:2256-1551830400-1551916799@bcct.org.au
SUMMARY:Club Belmore
DESCRIPTION:Night Outing – BUY OWN DINNER \n
URL:https://bcct.org.au/outing/club-belmore/
END:VEVENT
END:VCALENDAR